BEGIN:VCALENDAR
VERSION:2.0
PRODID:icalendar-ruby
CALSCALE:GREGORIAN
METHOD:PUBLISH
BEGIN:VEVENT
DTSTAMP:20260423T091959Z
UID:159-267845@hope-central.church
DTSTART:20261104T150000Z
DTEND:20261104T200000Z
CLASS:PUBLIC
CREATED:20260422T205552
DESCRIPTION:
LAST-MODIFIED:20260422T205552
LOCATION:Kimball Campus Fellowship Hall
SUMMARY:Quilters
URL;VALUE=URI:https://kimballchristian.org/events/quilters/2026-11-04
ATTACH;FILENAME=quilters.jpg;FMTTYPE=image/jpeg:https://dq5pwpg1q8ru0.cloud
 front.net/2026/04/08/15/46/47/9273d418-5b1e-4690-97e2-4aaa139f98d2/quilter
 s.jpg
END:VEVENT
END:VCALENDAR
